BEGIN:VCALENDAR
VERSION:2.0
METHOD:PUBLISH
BEGIN:VEVENT
UID:WILD_APRICOT_EVENT_2820274_SESSION_1
DTSTART:20180513T223000Z
DTEND:20180514T060000Z
SUMMARY:ACA Digital Technologies Workshop: Huonville
LOCATION:Huoville High School\, 74-82 Wilmot Rd\, Huonville TAS 7109
DESCRIPTION:https://www.tasite.tas.edu.au/event-2820274\n\nDigital Technologies Workshops are offered through 2018 by TASITE on behalf of the Australian Computing Academy (for the University of Sydney).\n  The workshop is a full-day training session to prepare teachers F-10 to teach the Australian Curriculum: Digital Technologies. The workshop provides an introduction of the concepts and goals of the Digital Technologies curriculum\, as well as providing teachers with practical programming assistance to deliver the new curriculum in their classrooms.\n  The workshops will involve a curriculum overview\, followed by a programming introduction using the Australian Digital Technologies Challenges being developed by the ACA.\n  The cost for attending a workshop is fixed at $70 including GST. This cost covers catering for the day (including lunch) and membership of TASITE\, the state professional association. Attendees are asked to bring their laptop computer and power supply.\n  Example Activities \n      * Crypto unplugged DiC activity (rot cipher)\n\n\n        * ACA Challenge - Cookie Clicker\n\n\n        * ACA Challenge - Python Turtle (Flags or Snow HoC)\n\n\n        * Visual and text programming\n\n\n        * Blockly Turtle\n\n\n        * Python Biology\n\n\n        * Resources and Activities Roadshow\n\n     Who Should Attend?\n        * Primary and secondary teachers looking to improve their understanding of the Digital Technologies curriculum\n\n\n          * Teachers and technology leaders seeking resources to support the implementation of the curriculum\n\n      \n      Presenter      \n          * Marg Meijers\n\n\n         More Information         \n          * Read full program details\n\n\n      \n      Registration Process      \n          * Register via the ACA Portal\n\n 
DTSTAMP:20260424T170009Z
END:VEVENT
END:VCALENDAR
