BEGIN:VCALENDAR
VERSION:2.0
METHOD:PUBLISH
BEGIN:VEVENT
UID:WILD_APRICOT_EVENT_2583938_SESSION_1
DTSTART:20170726T063000Z
DTEND:20170726T083000Z
SUMMARY:Digital Clay\, Digital Sculpture & 3D Printing (South)
LOCATION:The Hutchins School\, 71 Nelson Road\, Sandy.
DESCRIPTION:https://www.tasite.tas.edu.au/event-2583938\n\nTASITE Seminar Series\n ==================\nDigital Clay - Digital Sculpture (South).  This workshop will introduce you to 3D digital sculpting and printing using free software and affordable technologies.  A hands on session for the creative designers who would like to incorporate digital technologies into their teaching.\n  Suitable for teachers from Years 4 - 12.\n  Teacher resources are supplied for registrants.\n  Light refreshments provided.\n  \n\n  \n\n
DTSTAMP:20260424T135535Z
END:VEVENT
END:VCALENDAR
